


BEGIN:VCALENDAR
VERSION:2.0
PRODID:-//Chillicothe Park District - ECPv6.15.17.1//NONSGML v1.0//EN
CALSCALE:GREGORIAN
METHOD:PUBLISH
X-WR-CALNAME:Chillicothe Park District
X-ORIGINAL-URL:https://www.chillicotheparkdistrict.org
X-WR-CALDESC:Events for Chillicothe Park District
REFRESH-INTERVAL;VALUE=DURATION:PT1H
X-Robots-Tag:noindex
X-PUBLISHED-TTL:PT1H
BEGIN:VTIMEZONE
TZID:America/Chicago
BEGIN:DAYLIGHT
TZOFFSETFROM:-0600
TZOFFSETTO:-0500
TZNAME:CDT
DTSTART:20240310T080000
END:DAYLIGHT
BEGIN:STANDARD
TZOFFSETFROM:-0500
TZOFFSETTO:-0600
TZNAME:CST
DTSTART:20241103T070000
END:STANDARD
BEGIN:DAYLIGHT
TZOFFSETFROM:-0600
TZOFFSETTO:-0500
TZNAME:CDT
DTSTART:20250309T080000
END:DAYLIGHT
BEGIN:STANDARD
TZOFFSETFROM:-0500
TZOFFSETTO:-0600
TZNAME:CST
DTSTART:20251102T070000
END:STANDARD
BEGIN:DAYLIGHT
TZOFFSETFROM:-0600
TZOFFSETTO:-0500
TZNAME:CDT
DTSTART:20260308T080000
END:DAYLIGHT
BEGIN:STANDARD
TZOFFSETFROM:-0500
TZOFFSETTO:-0600
TZNAME:CST
DTSTART:20261101T070000
END:STANDARD
END:VTIMEZONE
BEGIN:VEVENT
DTSTART;TZID=America/Chicago:20250612T173000
DTEND;TZID=America/Chicago:20250612T200000
DTSTAMP:20260424T091004
CREATED:20250605T203114Z
LAST-MODIFIED:20250801T192436Z
UID:10000331-1749749400-1749758400@www.chillicotheparkdistrict.org
SUMMARY:Disc Golf League
DESCRIPTION:Join us for a fun and free Disc Golf League at Shore Acres Park led by Aces on the Horizon! Whether you’re a season player or new to the game\, this casual league is the perfect way to enjoy friendly competition\, improve your skills\, and meet fellow disc golf enthusiasts. No pre-registration required – just show up and throw! \nWeather-related cancellations will be announced on the Chillicothe Park District Facebook Page\, so be sure to check for updates before heading out!
URL:https://www.chillicotheparkdistrict.org/event/disc-golf-league/2025-06-12/2/
LOCATION:Shore Acres Park\, 100 Park Blvd.\, Chillicothe\, 61523\, United States
ATTACH;FMTTYPE=image/png:https://www.chillicotheparkdistrict.org/wp-content/uploads/Disc-Golf-Website-1200-x-750-px-10.png
END:VEVENT
BEGIN:VEVENT
DTSTART;TZID=America/Chicago:20250612T080000
DTEND;TZID=America/Chicago:20250612T170000
DTSTAMP:20260424T091004
CREATED:20250605T203114Z
LAST-MODIFIED:20250801T192436Z
UID:10000475-1749715200-1749747600@www.chillicotheparkdistrict.org
SUMMARY:Disc Golf League
DESCRIPTION:Join us for a fun and free Disc Golf League at Shore Acres Park led by Aces on the Horizon! Whether you’re a season player or new to the game\, this casual league is the perfect way to enjoy friendly competition\, improve your skills\, and meet fellow disc golf enthusiasts. No pre-registration required – just show up and throw! \nWeather-related cancellations will be announced on the Chillicothe Park District Facebook Page\, so be sure to check for updates before heading out!
URL:https://www.chillicotheparkdistrict.org/event/disc-golf-league/2025-06-12/1/
LOCATION:Shore Acres Park\, 100 Park Blvd.\, Chillicothe\, 61523\, United States
ATTACH;FMTTYPE=image/png:https://www.chillicotheparkdistrict.org/wp-content/uploads/Disc-Golf-Website-1200-x-750-px-10.png
END:VEVENT
BEGIN:VEVENT
DTSTART;TZID=America/Chicago:20250610T094500
DTEND;TZID=America/Chicago:20250610T120000
DTSTAMP:20260424T091004
CREATED:20250605T202426Z
LAST-MODIFIED:20250801T192254Z
UID:10000201-1749548700-1749556800@www.chillicotheparkdistrict.org
SUMMARY:Youth Disc Golf League
DESCRIPTION:Join us for a fun\, FREE and supportive Youth Disc Golf League designed to teach\, inspire\, and grow young players through weekly drop-in sessions! Whether you’re brand new to the sport or already have some experience\, this league offers a welcoming space to learn the game\, build skills\, and have a great time outdoors at Shore Acres Park. \nEach week includes: \n\nInstruction on how to play\n\n  \n\nAn intro to official PDGA rules\n\n  \n\nDrills and games to build confidence and technique
URL:https://www.chillicotheparkdistrict.org/event/youth-disc-golf-league/2025-06-10/
LOCATION:Shore Acres Park\, 100 Park Blvd.\, Chillicothe\, 61523\, United States
ATTACH;FMTTYPE=image/jpeg:https://www.chillicotheparkdistrict.org/wp-content/uploads/Disc-Golf-Website-1200-x-750-px-9.jpg
END:VEVENT
BEGIN:VEVENT
DTSTART;TZID=America/Chicago:20250604T173000
DTEND;TZID=America/Chicago:20250604T193000
DTSTAMP:20260424T091004
CREATED:20250307T211139Z
LAST-MODIFIED:20250307T213508Z
UID:10000144-1749058200-1749065400@www.chillicotheparkdistrict.org
SUMMARY:Spring Disc Golf League
DESCRIPTION:Join us for a fun and free Disc Golf League at Shore Acres Park led by Aces on the Horizon! Whether you’re a season player or new to the game\, this casual league is the perfect way to enjoy friendly competition\, improve your skills\, and meet fellow disc golf enthusiasts. No pre-registration required – just show up and throw! \nWeather-related cancellations will be announced on the Chillicothe Park District Facebook Page\, so be sure to check for updates before heading out!
URL:https://www.chillicotheparkdistrict.org/event/spring-disc-golf-league/2025-06-04/
LOCATION:Shore Acres Park\, 100 Park Blvd.\, Chillicothe\, 61523\, United States
ATTACH;FMTTYPE=image/jpeg:https://www.chillicotheparkdistrict.org/wp-content/uploads/unnamed-3.jpg
END:VEVENT
BEGIN:VEVENT
DTSTART;TZID=America/Chicago:20250531T103000
DTEND;TZID=America/Chicago:20250531T120000
DTSTAMP:20260424T091004
CREATED:20250307T213428Z
LAST-MODIFIED:20250408T193055Z
UID:10000153-1748687400-1748692800@www.chillicotheparkdistrict.org
SUMMARY:Spring Doubles Disc Golf League
DESCRIPTION:Looking for a competitive way to play disc golf? Join our Random Draw Doubles Drop-In League on Saturday mornings for a great time on the course! No partner needed – just show up\, and we’ll randomly pair you with another player for a chance to compete and win. $5 to play | $1 (optional) ACE Pot \nPay on site each week: Cash\, Venmo\, Zelle\, PayPal\, credit/debit cards accepted \nWeather-related cancellations will be announced on the Chillicothe Park District Facebook Page\, so be sure to check for updates before heading out!
URL:https://www.chillicotheparkdistrict.org/event/spring-doubles-disc-golf-league/2025-05-31/
LOCATION:Shore Acres Park\, 100 Park Blvd.\, Chillicothe\, 61523\, United States
ATTACH;FMTTYPE=image/jpeg:https://www.chillicotheparkdistrict.org/wp-content/uploads/unnamed-4.jpg
END:VEVENT
BEGIN:VEVENT
DTSTART;TZID=America/Chicago:20250528T173000
DTEND;TZID=America/Chicago:20250528T193000
DTSTAMP:20260424T091004
CREATED:20250307T211139Z
LAST-MODIFIED:20250307T213508Z
UID:10000143-1748453400-1748460600@www.chillicotheparkdistrict.org
SUMMARY:Spring Disc Golf League
DESCRIPTION:Join us for a fun and free Disc Golf League at Shore Acres Park led by Aces on the Horizon! Whether you’re a season player or new to the game\, this casual league is the perfect way to enjoy friendly competition\, improve your skills\, and meet fellow disc golf enthusiasts. No pre-registration required – just show up and throw! \nWeather-related cancellations will be announced on the Chillicothe Park District Facebook Page\, so be sure to check for updates before heading out!
URL:https://www.chillicotheparkdistrict.org/event/spring-disc-golf-league/2025-05-28/
LOCATION:Shore Acres Park\, 100 Park Blvd.\, Chillicothe\, 61523\, United States
ATTACH;FMTTYPE=image/jpeg:https://www.chillicotheparkdistrict.org/wp-content/uploads/unnamed-3.jpg
END:VEVENT
BEGIN:VEVENT
DTSTART;TZID=America/Chicago:20250524T103000
DTEND;TZID=America/Chicago:20250524T120000
DTSTAMP:20260424T091004
CREATED:20250307T213428Z
LAST-MODIFIED:20250408T193055Z
UID:10000152-1748082600-1748088000@www.chillicotheparkdistrict.org
SUMMARY:Spring Doubles Disc Golf League
DESCRIPTION:Looking for a competitive way to play disc golf? Join our Random Draw Doubles Drop-In League on Saturday mornings for a great time on the course! No partner needed – just show up\, and we’ll randomly pair you with another player for a chance to compete and win. $5 to play | $1 (optional) ACE Pot \nPay on site each week: Cash\, Venmo\, Zelle\, PayPal\, credit/debit cards accepted \nWeather-related cancellations will be announced on the Chillicothe Park District Facebook Page\, so be sure to check for updates before heading out!
URL:https://www.chillicotheparkdistrict.org/event/spring-doubles-disc-golf-league/2025-05-24/
LOCATION:Shore Acres Park\, 100 Park Blvd.\, Chillicothe\, 61523\, United States
ATTACH;FMTTYPE=image/jpeg:https://www.chillicotheparkdistrict.org/wp-content/uploads/unnamed-4.jpg
END:VEVENT
BEGIN:VEVENT
DTSTART;TZID=America/Chicago:20250521T173000
DTEND;TZID=America/Chicago:20250521T193000
DTSTAMP:20260424T091004
CREATED:20250307T211139Z
LAST-MODIFIED:20250307T213508Z
UID:10000142-1747848600-1747855800@www.chillicotheparkdistrict.org
SUMMARY:Spring Disc Golf League
DESCRIPTION:Join us for a fun and free Disc Golf League at Shore Acres Park led by Aces on the Horizon! Whether you’re a season player or new to the game\, this casual league is the perfect way to enjoy friendly competition\, improve your skills\, and meet fellow disc golf enthusiasts. No pre-registration required – just show up and throw! \nWeather-related cancellations will be announced on the Chillicothe Park District Facebook Page\, so be sure to check for updates before heading out!
URL:https://www.chillicotheparkdistrict.org/event/spring-disc-golf-league/2025-05-21/
LOCATION:Shore Acres Park\, 100 Park Blvd.\, Chillicothe\, 61523\, United States
ATTACH;FMTTYPE=image/jpeg:https://www.chillicotheparkdistrict.org/wp-content/uploads/unnamed-3.jpg
END:VEVENT
BEGIN:VEVENT
DTSTART;TZID=America/Chicago:20250517T103000
DTEND;TZID=America/Chicago:20250517T120000
DTSTAMP:20260424T091004
CREATED:20250307T213428Z
LAST-MODIFIED:20250408T193055Z
UID:10000151-1747477800-1747483200@www.chillicotheparkdistrict.org
SUMMARY:Spring Doubles Disc Golf League
DESCRIPTION:Looking for a competitive way to play disc golf? Join our Random Draw Doubles Drop-In League on Saturday mornings for a great time on the course! No partner needed – just show up\, and we’ll randomly pair you with another player for a chance to compete and win. $5 to play | $1 (optional) ACE Pot \nPay on site each week: Cash\, Venmo\, Zelle\, PayPal\, credit/debit cards accepted \nWeather-related cancellations will be announced on the Chillicothe Park District Facebook Page\, so be sure to check for updates before heading out!
URL:https://www.chillicotheparkdistrict.org/event/spring-doubles-disc-golf-league/2025-05-17/
LOCATION:Shore Acres Park\, 100 Park Blvd.\, Chillicothe\, 61523\, United States
ATTACH;FMTTYPE=image/jpeg:https://www.chillicotheparkdistrict.org/wp-content/uploads/unnamed-4.jpg
END:VEVENT
BEGIN:VEVENT
DTSTART;TZID=America/Chicago:20250514T173000
DTEND;TZID=America/Chicago:20250514T193000
DTSTAMP:20260424T091004
CREATED:20250307T211139Z
LAST-MODIFIED:20250307T213508Z
UID:10000141-1747243800-1747251000@www.chillicotheparkdistrict.org
SUMMARY:Spring Disc Golf League
DESCRIPTION:Join us for a fun and free Disc Golf League at Shore Acres Park led by Aces on the Horizon! Whether you’re a season player or new to the game\, this casual league is the perfect way to enjoy friendly competition\, improve your skills\, and meet fellow disc golf enthusiasts. No pre-registration required – just show up and throw! \nWeather-related cancellations will be announced on the Chillicothe Park District Facebook Page\, so be sure to check for updates before heading out!
URL:https://www.chillicotheparkdistrict.org/event/spring-disc-golf-league/2025-05-14/
LOCATION:Shore Acres Park\, 100 Park Blvd.\, Chillicothe\, 61523\, United States
ATTACH;FMTTYPE=image/jpeg:https://www.chillicotheparkdistrict.org/wp-content/uploads/unnamed-3.jpg
END:VEVENT
BEGIN:VEVENT
DTSTART;TZID=America/Chicago:20250510T103000
DTEND;TZID=America/Chicago:20250510T120000
DTSTAMP:20260424T091004
CREATED:20250307T213428Z
LAST-MODIFIED:20250408T193055Z
UID:10000150-1746873000-1746878400@www.chillicotheparkdistrict.org
SUMMARY:Spring Doubles Disc Golf League
DESCRIPTION:Looking for a competitive way to play disc golf? Join our Random Draw Doubles Drop-In League on Saturday mornings for a great time on the course! No partner needed – just show up\, and we’ll randomly pair you with another player for a chance to compete and win. $5 to play | $1 (optional) ACE Pot \nPay on site each week: Cash\, Venmo\, Zelle\, PayPal\, credit/debit cards accepted \nWeather-related cancellations will be announced on the Chillicothe Park District Facebook Page\, so be sure to check for updates before heading out!
URL:https://www.chillicotheparkdistrict.org/event/spring-doubles-disc-golf-league/2025-05-10/
LOCATION:Shore Acres Park\, 100 Park Blvd.\, Chillicothe\, 61523\, United States
ATTACH;FMTTYPE=image/jpeg:https://www.chillicotheparkdistrict.org/wp-content/uploads/unnamed-4.jpg
END:VEVENT
BEGIN:VEVENT
DTSTART;TZID=America/Chicago:20250507T173000
DTEND;TZID=America/Chicago:20250507T193000
DTSTAMP:20260424T091004
CREATED:20250307T211139Z
LAST-MODIFIED:20250307T213508Z
UID:10000140-1746639000-1746646200@www.chillicotheparkdistrict.org
SUMMARY:Spring Disc Golf League
DESCRIPTION:Join us for a fun and free Disc Golf League at Shore Acres Park led by Aces on the Horizon! Whether you’re a season player or new to the game\, this casual league is the perfect way to enjoy friendly competition\, improve your skills\, and meet fellow disc golf enthusiasts. No pre-registration required – just show up and throw! \nWeather-related cancellations will be announced on the Chillicothe Park District Facebook Page\, so be sure to check for updates before heading out!
URL:https://www.chillicotheparkdistrict.org/event/spring-disc-golf-league/2025-05-07/
LOCATION:Shore Acres Park\, 100 Park Blvd.\, Chillicothe\, 61523\, United States
ATTACH;FMTTYPE=image/jpeg:https://www.chillicotheparkdistrict.org/wp-content/uploads/unnamed-3.jpg
END:VEVENT
BEGIN:VEVENT
DTSTART;TZID=America/Chicago:20250503T103000
DTEND;TZID=America/Chicago:20250503T120000
DTSTAMP:20260424T091004
CREATED:20250307T213428Z
LAST-MODIFIED:20250408T193055Z
UID:10000149-1746268200-1746273600@www.chillicotheparkdistrict.org
SUMMARY:Spring Doubles Disc Golf League
DESCRIPTION:Looking for a competitive way to play disc golf? Join our Random Draw Doubles Drop-In League on Saturday mornings for a great time on the course! No partner needed – just show up\, and we’ll randomly pair you with another player for a chance to compete and win. $5 to play | $1 (optional) ACE Pot \nPay on site each week: Cash\, Venmo\, Zelle\, PayPal\, credit/debit cards accepted \nWeather-related cancellations will be announced on the Chillicothe Park District Facebook Page\, so be sure to check for updates before heading out!
URL:https://www.chillicotheparkdistrict.org/event/spring-doubles-disc-golf-league/2025-05-03/
LOCATION:Shore Acres Park\, 100 Park Blvd.\, Chillicothe\, 61523\, United States
ATTACH;FMTTYPE=image/jpeg:https://www.chillicotheparkdistrict.org/wp-content/uploads/unnamed-4.jpg
END:VEVENT
BEGIN:VEVENT
DTSTART;TZID=America/Chicago:20250430T173000
DTEND;TZID=America/Chicago:20250430T193000
DTSTAMP:20260424T091004
CREATED:20250307T211139Z
LAST-MODIFIED:20250307T213508Z
UID:10000139-1746034200-1746041400@www.chillicotheparkdistrict.org
SUMMARY:Spring Disc Golf League
DESCRIPTION:Join us for a fun and free Disc Golf League at Shore Acres Park led by Aces on the Horizon! Whether you’re a season player or new to the game\, this casual league is the perfect way to enjoy friendly competition\, improve your skills\, and meet fellow disc golf enthusiasts. No pre-registration required – just show up and throw! \nWeather-related cancellations will be announced on the Chillicothe Park District Facebook Page\, so be sure to check for updates before heading out!
URL:https://www.chillicotheparkdistrict.org/event/spring-disc-golf-league/2025-04-30/
LOCATION:Shore Acres Park\, 100 Park Blvd.\, Chillicothe\, 61523\, United States
ATTACH;FMTTYPE=image/jpeg:https://www.chillicotheparkdistrict.org/wp-content/uploads/unnamed-3.jpg
END:VEVENT
BEGIN:VEVENT
DTSTART;TZID=America/Chicago:20250426T103000
DTEND;TZID=America/Chicago:20250426T120000
DTSTAMP:20260424T091004
CREATED:20250307T213428Z
LAST-MODIFIED:20250408T193055Z
UID:10000148-1745663400-1745668800@www.chillicotheparkdistrict.org
SUMMARY:Spring Doubles Disc Golf League
DESCRIPTION:Looking for a competitive way to play disc golf? Join our Random Draw Doubles Drop-In League on Saturday mornings for a great time on the course! No partner needed – just show up\, and we’ll randomly pair you with another player for a chance to compete and win. $5 to play | $1 (optional) ACE Pot \nPay on site each week: Cash\, Venmo\, Zelle\, PayPal\, credit/debit cards accepted \nWeather-related cancellations will be announced on the Chillicothe Park District Facebook Page\, so be sure to check for updates before heading out!
URL:https://www.chillicotheparkdistrict.org/event/spring-doubles-disc-golf-league/2025-04-26/
LOCATION:Shore Acres Park\, 100 Park Blvd.\, Chillicothe\, 61523\, United States
ATTACH;FMTTYPE=image/jpeg:https://www.chillicotheparkdistrict.org/wp-content/uploads/unnamed-4.jpg
END:VEVENT
BEGIN:VEVENT
DTSTART;TZID=America/Chicago:20250423T173000
DTEND;TZID=America/Chicago:20250423T193000
DTSTAMP:20260424T091004
CREATED:20250307T211139Z
LAST-MODIFIED:20250307T213508Z
UID:10000138-1745429400-1745436600@www.chillicotheparkdistrict.org
SUMMARY:Spring Disc Golf League
DESCRIPTION:Join us for a fun and free Disc Golf League at Shore Acres Park led by Aces on the Horizon! Whether you’re a season player or new to the game\, this casual league is the perfect way to enjoy friendly competition\, improve your skills\, and meet fellow disc golf enthusiasts. No pre-registration required – just show up and throw! \nWeather-related cancellations will be announced on the Chillicothe Park District Facebook Page\, so be sure to check for updates before heading out!
URL:https://www.chillicotheparkdistrict.org/event/spring-disc-golf-league/2025-04-23/
LOCATION:Shore Acres Park\, 100 Park Blvd.\, Chillicothe\, 61523\, United States
ATTACH;FMTTYPE=image/jpeg:https://www.chillicotheparkdistrict.org/wp-content/uploads/unnamed-3.jpg
END:VEVENT
BEGIN:VEVENT
DTSTART;TZID=America/Chicago:20250416T173000
DTEND;TZID=America/Chicago:20250416T193000
DTSTAMP:20260424T091004
CREATED:20250307T211139Z
LAST-MODIFIED:20250307T213508Z
UID:10000137-1744824600-1744831800@www.chillicotheparkdistrict.org
SUMMARY:Spring Disc Golf League
DESCRIPTION:Join us for a fun and free Disc Golf League at Shore Acres Park led by Aces on the Horizon! Whether you’re a season player or new to the game\, this casual league is the perfect way to enjoy friendly competition\, improve your skills\, and meet fellow disc golf enthusiasts. No pre-registration required – just show up and throw! \nWeather-related cancellations will be announced on the Chillicothe Park District Facebook Page\, so be sure to check for updates before heading out!
URL:https://www.chillicotheparkdistrict.org/event/spring-disc-golf-league/2025-04-16/
LOCATION:Shore Acres Park\, 100 Park Blvd.\, Chillicothe\, 61523\, United States
ATTACH;FMTTYPE=image/jpeg:https://www.chillicotheparkdistrict.org/wp-content/uploads/unnamed-3.jpg
END:VEVENT
BEGIN:VEVENT
DTSTART;TZID=America/Chicago:20250409T173000
DTEND;TZID=America/Chicago:20250409T193000
DTSTAMP:20260424T091004
CREATED:20250307T211139Z
LAST-MODIFIED:20250307T213508Z
UID:10000136-1744219800-1744227000@www.chillicotheparkdistrict.org
SUMMARY:Spring Disc Golf League
DESCRIPTION:Join us for a fun and free Disc Golf League at Shore Acres Park led by Aces on the Horizon! Whether you’re a season player or new to the game\, this casual league is the perfect way to enjoy friendly competition\, improve your skills\, and meet fellow disc golf enthusiasts. No pre-registration required – just show up and throw! \nWeather-related cancellations will be announced on the Chillicothe Park District Facebook Page\, so be sure to check for updates before heading out!
URL:https://www.chillicotheparkdistrict.org/event/spring-disc-golf-league/2025-04-09/
LOCATION:Shore Acres Park\, 100 Park Blvd.\, Chillicothe\, 61523\, United States
ATTACH;FMTTYPE=image/jpeg:https://www.chillicotheparkdistrict.org/wp-content/uploads/unnamed-3.jpg
END:VEVENT
BEGIN:VEVENT
DTSTART;TZID=America/Chicago:20250405T093000
DTEND;TZID=America/Chicago:20250405T110000
DTSTAMP:20260424T091004
CREATED:20250307T213428Z
LAST-MODIFIED:20250408T193055Z
UID:10000154-1743845400-1743850800@www.chillicotheparkdistrict.org
SUMMARY:Spring Doubles Disc Golf League
DESCRIPTION:Looking for a competitive way to play disc golf? Join our Random Draw Doubles Drop-In League on Saturday mornings for a great time on the course! No partner needed – just show up\, and we’ll randomly pair you with another player for a chance to compete and win. $5 to play | $1 (optional) ACE Pot \nPay on site each week: Cash\, Venmo\, Zelle\, PayPal\, credit/debit cards accepted \nWeather-related cancellations will be announced on the Chillicothe Park District Facebook Page\, so be sure to check for updates before heading out!
URL:https://www.chillicotheparkdistrict.org/event/spring-doubles-disc-golf-league/2025-04-05/
LOCATION:Shore Acres Park\, 100 Park Blvd.\, Chillicothe\, 61523\, United States
ATTACH;FMTTYPE=image/jpeg:https://www.chillicotheparkdistrict.org/wp-content/uploads/unnamed-4.jpg
END:VEVENT
BEGIN:VEVENT
DTSTART;TZID=America/Chicago:20250402T173000
DTEND;TZID=America/Chicago:20250402T193000
DTSTAMP:20260424T091004
CREATED:20250307T211139Z
LAST-MODIFIED:20250307T213508Z
UID:10000135-1743615000-1743622200@www.chillicotheparkdistrict.org
SUMMARY:Spring Disc Golf League
DESCRIPTION:Join us for a fun and free Disc Golf League at Shore Acres Park led by Aces on the Horizon! Whether you’re a season player or new to the game\, this casual league is the perfect way to enjoy friendly competition\, improve your skills\, and meet fellow disc golf enthusiasts. No pre-registration required – just show up and throw! \nWeather-related cancellations will be announced on the Chillicothe Park District Facebook Page\, so be sure to check for updates before heading out!
URL:https://www.chillicotheparkdistrict.org/event/spring-disc-golf-league/2025-04-02/
LOCATION:Shore Acres Park\, 100 Park Blvd.\, Chillicothe\, 61523\, United States
ATTACH;FMTTYPE=image/jpeg:https://www.chillicotheparkdistrict.org/wp-content/uploads/unnamed-3.jpg
END:VEVENT
END:VCALENDAR